BEGIN:VCALENDAR
VERSION:2.0
PRODID:-//Language in interaction - ECPv6.15.20//NONSGML v1.0//EN
CALSCALE:GREGORIAN
METHOD:PUBLISH
X-WR-CALNAME:Language in interaction
X-ORIGINAL-URL:https://www.dcc.ru.nl/languageininteraction
X-WR-CALDESC:Events for Language in interaction
REFRESH-INTERVAL;VALUE=DURATION:PT1H
X-Robots-Tag:noindex
X-PUBLISHED-TTL:PT1H
BEGIN:VTIMEZONE
TZID:Europe/Amsterdam
BEGIN:DAYLIGHT
TZOFFSETFROM:+0100
TZOFFSETTO:+0200
TZNAME:CEST
DTSTART:20220327T010000
END:DAYLIGHT
BEGIN:STANDARD
TZOFFSETFROM:+0200
TZOFFSETTO:+0100
TZNAME:CET
DTSTART:20221030T010000
END:STANDARD
BEGIN:DAYLIGHT
TZOFFSETFROM:+0100
TZOFFSETTO:+0200
TZNAME:CEST
DTSTART:20230326T010000
END:DAYLIGHT
BEGIN:STANDARD
TZOFFSETFROM:+0200
TZOFFSETTO:+0100
TZNAME:CET
DTSTART:20231029T010000
END:STANDARD
BEGIN:DAYLIGHT
TZOFFSETFROM:+0100
TZOFFSETTO:+0200
TZNAME:CEST
DTSTART:20240331T010000
END:DAYLIGHT
BEGIN:STANDARD
TZOFFSETFROM:+0200
TZOFFSETTO:+0100
TZNAME:CET
DTSTART:20241027T010000
END:STANDARD
BEGIN:DAYLIGHT
TZOFFSETFROM:+0100
TZOFFSETTO:+0200
TZNAME:CEST
DTSTART:20250330T010000
END:DAYLIGHT
BEGIN:STANDARD
TZOFFSETFROM:+0200
TZOFFSETTO:+0100
TZNAME:CET
DTSTART:20251026T010000
END:STANDARD
END:VTIMEZONE
BEGIN:VEVENT
DTSTART;TZID=Europe/Amsterdam:20230224T140000
DTEND;TZID=Europe/Amsterdam:20230224T153000
DTSTAMP:20260420T043748
CREATED:20230207T183302Z
LAST-MODIFIED:20230207T183302Z
UID:3641-1677247200-1677252600@www.dcc.ru.nl
SUMMARY:Theory of Language meeting
DESCRIPTION:
URL:https://www.dcc.ru.nl/languageininteraction/event/theory-of-language-meeting-3/
LOCATION:MPI\, Room 163
END:VEVENT
BEGIN:VEVENT
DTSTART;TZID=Europe/Amsterdam:20230317T123000
DTEND;TZID=Europe/Amsterdam:20230317T133000
DTSTAMP:20260420T043748
CREATED:20221124T084629Z
LAST-MODIFIED:20230210T085748Z
UID:3452-1679056200-1679059800@www.dcc.ru.nl
SUMMARY:PhD defense Marlou Rasenberg
DESCRIPTION:Marlou Rasenberg will defend her Language in Interaction thesis “Mutual understanding from a multimodal and interactional perspective” on March 17th\, 2023 at 12:30 hrs. at the Radboud University Aula (Comeniuslaan 2\, Nijmegen).
URL:https://www.dcc.ru.nl/languageininteraction/event/phd-defense-marlou-rasenberg/
LOCATION:Academiezaal\, Aula Radboud University
END:VEVENT
BEGIN:VEVENT
DTSTART;TZID=Europe/Amsterdam:20230413T103000
DTEND;TZID=Europe/Amsterdam:20230413T103000
DTSTAMP:20260420T043748
CREATED:20230209T122936Z
LAST-MODIFIED:20230317T142634Z
UID:3645-1681381800-1681381800@www.dcc.ru.nl
SUMMARY:PhD defence João Ferreira
DESCRIPTION:
URL:https://www.dcc.ru.nl/languageininteraction/event/phd-defense-joao-ferreira/
LOCATION:Academiezaal\, Aula Radboud University
END:VEVENT
BEGIN:VEVENT
DTSTART;TZID=Europe/Amsterdam:20230414T103000
DTEND;TZID=Europe/Amsterdam:20230414T103000
DTSTAMP:20260420T043748
CREATED:20230317T142556Z
LAST-MODIFIED:20230317T142556Z
UID:3728-1681468200-1681468200@www.dcc.ru.nl
SUMMARY:PhD defence Lotte Eijk
DESCRIPTION:
URL:https://www.dcc.ru.nl/languageininteraction/event/phd-defence-lotte-eijk/
LOCATION:Academiezaal\, Aula Radboud University
END:VEVENT
BEGIN:VEVENT
DTSTART;TZID=Europe/Amsterdam:20230424T140000
DTEND;TZID=Europe/Amsterdam:20230424T140000
DTSTAMP:20260420T043748
CREATED:20230331T075147Z
LAST-MODIFIED:20230331T075232Z
UID:3746-1682344800-1682344800@www.dcc.ru.nl
SUMMARY:PhD defence Samira Abnar
DESCRIPTION:
URL:https://www.dcc.ru.nl/languageininteraction/event/phd-defence-samira-abnar/
END:VEVENT
BEGIN:VEVENT
DTSTART;TZID=Europe/Amsterdam:20230522T130000
DTEND;TZID=Europe/Amsterdam:20230522T170000
DTSTAMP:20260420T043748
CREATED:20230408T102652Z
LAST-MODIFIED:20230413T110850Z
UID:3763-1684760400-1684774800@www.dcc.ru.nl
SUMMARY:Lil Consortium Meeting
DESCRIPTION:
URL:https://www.dcc.ru.nl/languageininteraction/event/lil-consortium-meeting/
LOCATION:ILLC\, Amsterdam
END:VEVENT
BEGIN:VEVENT
DTSTART;VALUE=DATE:20230606
DTEND;VALUE=DATE:20230608
DTSTAMP:20260420T043748
CREATED:20230331T084423Z
LAST-MODIFIED:20230413T112703Z
UID:3748-1686009600-1686182399@www.dcc.ru.nl
SUMMARY:'Native listening: A Canteen of Cutlery'\, a symposium in memory of Anne Cutler
DESCRIPTION:
URL:https://www.dcc.ru.nl/languageininteraction/event/native-listening-a-canteen-of-cutlery-a-symposium-in-memory-of-anne-cutler-director-of-the-comprehension-group-at-mpi-1993-2012/
LOCATION:Max Plank Institute for Psycholinguistics\, Nijmegen\, Wundtlaan 1\, Nijmegen\, Netherlands
END:VEVENT
BEGIN:VEVENT
DTSTART;TZID=Europe/Amsterdam:20231009T100000
DTEND;TZID=Europe/Amsterdam:20231009T170000
DTSTAMP:20260420T043748
CREATED:20230413T111128Z
LAST-MODIFIED:20230413T111128Z
UID:3772-1696845600-1696870800@www.dcc.ru.nl
SUMMARY:LiI Day Out
DESCRIPTION:
URL:https://www.dcc.ru.nl/languageininteraction/event/lii-day-out/
LOCATION:Fletcher Hotel Holthurnsche Hof\, Zevenheuvelenweg 48A\, Berg en Dal\, 6571 CK\, Netherlands
END:VEVENT
BEGIN:VEVENT
DTSTART;TZID=Europe/Amsterdam:20231127T130000
DTEND;TZID=Europe/Amsterdam:20231127T153000
DTSTAMP:20260420T043748
CREATED:20230413T111001Z
LAST-MODIFIED:20230413T111001Z
UID:3770-1701090000-1701099000@www.dcc.ru.nl
SUMMARY:LiI Consortium meeting
DESCRIPTION:
URL:https://www.dcc.ru.nl/languageininteraction/event/lii-consortium-meeting-7/
LOCATION:Max Plank Institute for Psycholinguistics\, Nijmegen\, Wundtlaan 1\, Nijmegen\, Netherlands
END:VEVENT
BEGIN:VEVENT
DTSTART;TZID=Europe/Amsterdam:20240209T154500
DTEND;TZID=Europe/Amsterdam:20240209T170000
DTSTAMP:20260420T043748
CREATED:20240122T154209Z
LAST-MODIFIED:20240122T154209Z
UID:4359-1707493500-1707498000@www.dcc.ru.nl
SUMMARY:Inaugural lecture prof. dr. Kristin Lemhöfer
DESCRIPTION:Professor of Cognition of multilingualism at Radboud University\, Faculty of Social Sciences will officially assume office in an academic session on Friday\, February 9\, 2024 at 3.45 p.m. Then she will deliver her inaugural lecture\, entitled: Fitting many languages into one brain.\n \nRegistration\nPlease register before January 25\, 2024 through www.ru.nl/rede/lemhofer\nYou will receive a confirmation and additional information in the week of January 29.\nThe lecture may also be viewed via live stream: www.ru.nl/aula/livestream \n\n 
URL:https://www.dcc.ru.nl/languageininteraction/event/inaugural-lecture-prof-dr-kristin-lemhofer/
LOCATION:Academiezaal\, Aula Radboud University
END:VEVENT
BEGIN:VEVENT
DTSTART;TZID=Europe/Amsterdam:20240312T080000
DTEND;TZID=Europe/Amsterdam:20240317T233000
DTSTAMP:20260420T043748
CREATED:20231215T085008Z
LAST-MODIFIED:20240312T093810Z
UID:4306-1710230400-1710718200@www.dcc.ru.nl
SUMMARY:InScience 2024
DESCRIPTION:
URL:https://www.dcc.ru.nl/languageininteraction/event/inscience-2024/
LOCATION:Nijmegen
END:VEVENT
BEGIN:VEVENT
DTSTART;TZID=Europe/Amsterdam:20240325T130000
DTEND;TZID=Europe/Amsterdam:20240325T170000
DTSTAMP:20260420T043748
CREATED:20230413T111532Z
LAST-MODIFIED:20230413T111532Z
UID:3776-1711371600-1711386000@www.dcc.ru.nl
SUMMARY:LiI Consortium meeting
DESCRIPTION:
URL:https://www.dcc.ru.nl/languageininteraction/event/lii-consortium-meeting-9/
LOCATION:Max Plank Institute for Psycholinguistics\, Nijmegen\, Wundtlaan 1\, Nijmegen\, Netherlands
END:VEVENT
BEGIN:VEVENT
DTSTART;TZID=Europe/Amsterdam:20240614T140000
DTEND;TZID=Europe/Amsterdam:20240614T170000
DTSTAMP:20260420T043748
CREATED:20240602T212437Z
LAST-MODIFIED:20240602T212611Z
UID:4493-1718373600-1718384400@www.dcc.ru.nl
SUMMARY:Theory of Language meeting
DESCRIPTION:
URL:https://www.dcc.ru.nl/languageininteraction/event/theory-of-language-meeting-4/
LOCATION:MPI\, Room 163
END:VEVENT
BEGIN:VEVENT
DTSTART;TZID=Europe/Amsterdam:20240708T080000
DTEND;TZID=Europe/Amsterdam:20240711T170000
DTSTAMP:20260420T043748
CREATED:20230413T112341Z
LAST-MODIFIED:20230413T112736Z
UID:3780-1720425600-1720717200@www.dcc.ru.nl
SUMMARY:LiI Final Conference\, July 8-11\, 2024
DESCRIPTION:
URL:https://www.dcc.ru.nl/languageininteraction/event/lii-final-conference/
LOCATION:Montessorilaan 10\, Nijmegen
END:VEVENT
BEGIN:VEVENT
DTSTART;TZID=Europe/Amsterdam:20240712T123000
DTEND;TZID=Europe/Amsterdam:20240712T153000
DTSTAMP:20260420T043748
CREATED:20240425T141333Z
LAST-MODIFIED:20240425T141333Z
UID:4448-1720787400-1720798200@www.dcc.ru.nl
SUMMARY:PhD Defence Alessio Quaresima
DESCRIPTION:
URL:https://www.dcc.ru.nl/languageininteraction/event/phd-defence-alessio-quaresima/
LOCATION:Academiezaal\, Aula Radboud University
END:VEVENT
BEGIN:VEVENT
DTSTART;TZID=Europe/Amsterdam:20240927T154500
DTEND;TZID=Europe/Amsterdam:20240927T170000
DTSTAMP:20260420T043748
CREATED:20240808T150930Z
LAST-MODIFIED:20240808T150930Z
UID:4564-1727451900-1727456400@www.dcc.ru.nl
SUMMARY:Valedictory Lecture professor Peter Hagoort
DESCRIPTION:Language in Interaction’s program director Peter Hagoort\, Professor of Cognitive Neuroscience at Radboud University\, Faculty of Social Sciences will deliver a valedictory lecture (in Dutch) in an academic session on Friday\, September 27\, 2024 at 3.45 pm. The lecture is entitled:\nBerichten uit de Bovenkamer \nWhen Friday 27 September 2024\, 3:45 pm\nLocation Stevenskerk\nOrganisation Faculty of Social Sciences \nClick here to sign up \nContact information\nFor questions about the organisation of this farewell lecture\, please contact the Registrar’s Office\, available via pedel@co.ru.nl or over the phone via +31 24 361 59 68.\nJournalists and other media interested in contacting the research involved can call the Press Office\, via +31 24 361 60 00\, or send an email to media@ru.nl.
URL:https://www.dcc.ru.nl/languageininteraction/event/valedictory-lecture-professor-peter-hagoort/
LOCATION:Stevenskerk\, Nijmegen
END:VEVENT
END:VCALENDAR